<VRTDataset rasterXSize="4885" rasterYSize="3166">
  <SRS dataAxisToSRSAxisMapping="1,2">PROJCS["Albers_Conic_Equal_Area",GEOGCS["NAD83",DATUM["North_American_Datum_1983",SPHEROID["GRS 1980",6378137,298.257222101004,AUTHORITY["EPSG","7019"]],AUTHORITY["EPSG","6269"]],PRIMEM["Greenwich",0],UNIT["degree",0.0174532925199433,AUTHORITY["EPSG","9122"]],AUTHORITY["EPSG","4269"]],PROJECTION["Albers_Conic_Equal_Area"],PARAMETER["latitude_of_center",23],PARAMETER["longitude_of_center",-96],PARAMETER["standard_parallel_1",29.5],PARAMETER["standard_parallel_2",45.5],PARAMETER["false_easting",0],PARAMETER["false_northing",0],UNIT["metre",1,AUTHORITY["EPSG","9001"]],AXIS["Easting",EAST],AXIS["Northing",NORTH]]</SRS>
  <GeoTransform> -2.4930450000000000e+06,  9.9000000000000000e+02,  0.0000000000000000e+00,  3.3109950000000000e+06,  0.0000000000000000e+00, -9.9000000000000000e+02</GeoTransform>
  <Metadata>
    <MDI key="AREA_OR_POINT">Area</MDI>
    <MDI key="DataType">Generic</MDI>
  </Metadata>
  <Metadata domain="IMAGE_STRUCTURE">
    <MDI key="INTERLEAVE">BAND</MDI>
  </Metadata>
  <VRTRasterBand dataType="Byte" band="1">
    <Metadata>
      <MDI key="RepresentationType">ATHEMATIC</MDI>
    </Metadata>
    <NoDataValue>0</NoDataValue>
    <ColorInterp>Gray</ColorInterp>
    <ComplexSource>
      <SourceFilename relativeToVRT="1">range-size-rarity-all/RSR_All.tif</SourceFilename>
      <SourceBand>1</SourceBand>
      <SourceProperties RasterXSize="4885" RasterYSize="3166" DataType="Float32" BlockXSize="128" BlockYSize="128" />
      <SrcRect xOff="0" yOff="0" xSize="4885" ySize="3166" />
      <DstRect xOff="0" yOff="0" xSize="4885" ySize="3166" />
      <NODATA>-3.40282306073709653e+38</NODATA>
      <ScaleOffset>0</ScaleOffset>
      <ScaleRatio>166.473</ScaleRatio>
    </ComplexSource>
  </VRTRasterBand>
</VRTDataset>
